BEGIN:VCALENDAR
VERSION:2.0
PRODID:-//Fahrschule Burgstaller - ECPv5.1.2.1//NONSGML v1.0//EN
CALSCALE:GREGORIAN
METHOD:PUBLISH
X-WR-CALNAME:Fahrschule Burgstaller
X-ORIGINAL-URL:https://www.fahrschuleburgstaller.at
X-WR-CALDESC:Veranstaltungen für Fahrschule Burgstaller
BEGIN:VTIMEZONE
TZID:Europe/Berlin
BEGIN:DAYLIGHT
TZOFFSETFROM:+0100
TZOFFSETTO:+0200
TZNAME:CEST
DTSTART:20260329T010000
END:DAYLIGHT
BEGIN:STANDARD
TZOFFSETFROM:+0200
TZOFFSETTO:+0100
TZNAME:CET
DTSTART:20261025T010000
END:STANDARD
END:VTIMEZONE
BEGIN:VEVENT
DTSTART;VALUE=DATE:20260630
DTEND;VALUE=DATE:20260701
DTSTAMP:20260425T003255
CREATED:20200618T202013Z
LAST-MODIFIED:20260126T142923Z
UID:3765-1782777600-1782863999@www.fahrschuleburgstaller.at
SUMMARY:Prüfung Theorie Braunau & Mattighofen
DESCRIPTION:Voraussetzung ist\, dass dein ärztliches Attest bei uns in der Fahrschule vorliegt. \n
URL:https://www.fahrschuleburgstaller.at/termine/pruefung-theorie-braunau-mattighofen-2019-2020-2-8-2-2-2-2-2-6-2-2-2-2-2-2-2-2-2-3-2-3-2-2-2-2-2-2-2-2-2-2-2-2-2-2-2-2-2-2-2-2-2-2-2-2-2-4-4-3-8-16-2-3-2-2-3-3/
CATEGORIES:Prüfung Theorie Braunau & Mattighofen
END:VEVENT
END:VCALENDAR