BEGIN:VCALENDAR
VERSION:2.0
PRODID:-//Fahrschule Burgstaller - ECPv5.1.2.1//NONSGML v1.0//EN
CALSCALE:GREGORIAN
METHOD:PUBLISH
X-WR-CALNAME:Fahrschule Burgstaller
X-ORIGINAL-URL:https://www.fahrschuleburgstaller.at
X-WR-CALDESC:Veranstaltungen für Fahrschule Burgstaller
BEGIN:VTIMEZONE
TZID:Europe/Berlin
BEGIN:DAYLIGHT
TZOFFSETFROM:+0100
TZOFFSETTO:+0200
TZNAME:CEST
DTSTART:20260329T010000
END:DAYLIGHT
BEGIN:STANDARD
TZOFFSETFROM:+0200
TZOFFSETTO:+0100
TZNAME:CET
DTSTART:20261025T010000
END:STANDARD
END:VTIMEZONE
BEGIN:VEVENT
DTSTART;TZID=Europe/Berlin:20260530T080000
DTEND;TZID=Europe/Berlin:20260530T120000
DTSTAMP:20260424T224354
CREATED:20200622T163729Z
LAST-MODIFIED:20251204T102516Z
UID:3884-1780128000-1780142400@www.fahrschuleburgstaller.at
SUMMARY:Traktor
DESCRIPTION:Melde dich für 1 Kurstag in der Fahrschule Burgstaller in Mattighofen an! \nDie Anmeldung zum Kurs ist verbindlich. Du kannst deine Teilnahme jedoch jederzeit stornieren. Bitte beachte\, dass in diesem Fall eine Gebühr anfällt. \n
URL:https://www.fahrschuleburgstaller.at/termine/traktor-2-7-2-2-2-2-2/
LOCATION:Fahrschule Kern in Mattighofen\, Braunauerstraße 1a\, Mattighofen\, Oberösterreich\, 5230\, Austria
CATEGORIES:Traktor 1 Kurstag Fahrschulzentrum Uttendorf
END:VEVENT
END:VCALENDAR